BEGIN:VCALENDAR
VERSION:2.0
PRODID:-//Humanistisk Samfund - ECPv6.15.17.1//NONSGML v1.0//EN
CALSCALE:GREGORIAN
METHOD:PUBLISH
X-ORIGINAL-URL:https://www.humanistisksamfund.dk
X-WR-CALDESC:Begivenheder for Humanistisk Samfund
REFRESH-INTERVAL;VALUE=DURATION:PT1H
X-Robots-Tag:noindex
X-PUBLISHED-TTL:PT1H
BEGIN:VTIMEZONE
TZID:Europe/Copenhagen
BEGIN:DAYLIGHT
TZOFFSETFROM:+0100
TZOFFSETTO:+0200
TZNAME:CEST
DTSTART:20190331T010000
END:DAYLIGHT
BEGIN:STANDARD
TZOFFSETFROM:+0200
TZOFFSETTO:+0100
TZNAME:CET
DTSTART:20191027T010000
END:STANDARD
BEGIN:DAYLIGHT
TZOFFSETFROM:+0100
TZOFFSETTO:+0200
TZNAME:CEST
DTSTART:20200329T010000
END:DAYLIGHT
BEGIN:STANDARD
TZOFFSETFROM:+0200
TZOFFSETTO:+0100
TZNAME:CET
DTSTART:20201025T010000
END:STANDARD
BEGIN:DAYLIGHT
TZOFFSETFROM:+0100
TZOFFSETTO:+0200
TZNAME:CEST
DTSTART:20210328T010000
END:DAYLIGHT
BEGIN:STANDARD
TZOFFSETFROM:+0200
TZOFFSETTO:+0100
TZNAME:CET
DTSTART:20211031T010000
END:STANDARD
END:VTIMEZONE
BEGIN:VEVENT
DTSTART;TZID=Europe/Copenhagen:20200523T080000
DTEND;TZID=Europe/Copenhagen:20200523T170000
DTSTAMP:20260424T194919
CREATED:20190823T115424Z
LAST-MODIFIED:20190823T115918Z
UID:5751-1590220800-1590253200@www.humanistisksamfund.dk
SUMMARY:Konfirmationsceremoni i København
DESCRIPTION:Konfirmationsceremoni i København for hold X-Y om formiddagen og Z-Æ og hold fra Gentofte om eftermiddagen. Det Kgl. Danske Musikkonservatorium (Det tidligere Radiohus). \nKun konfirmandernes inviterede gæster kan deltage.
URL:https://www.humanistisksamfund.dk/event/konfirmationsceremoni-i-koebenhavn-4/
END:VEVENT
BEGIN:VEVENT
DTSTART;TZID=Europe/Copenhagen:20200523T100000
DTEND;TZID=Europe/Copenhagen:20200523T120000
DTSTAMP:20260424T194919
CREATED:20190823T120425Z
LAST-MODIFIED:20190823T120425Z
UID:5765-1590228000-1590235200@www.humanistisksamfund.dk
SUMMARY:Konfirmationsceremoni i Hjørring
DESCRIPTION:Konfirmationsceremoni i Hjørring for hold Hj. Vendelbohus i Hjørring. \nKun adgang for konfirmandernes inviterede gæster.
URL:https://www.humanistisksamfund.dk/event/konfirmationsceremoni-i-hjoerring/
END:VEVENT
END:VCALENDAR