BEGIN:VCALENDAR
VERSION:2.0
PRODID:-//Humanistisk Samfund - ECPv6.15.17.1//NONSGML v1.0//EN
CALSCALE:GREGORIAN
METHOD:PUBLISH
X-WR-CALNAME:Humanistisk Samfund
X-ORIGINAL-URL:https://www.humanistisksamfund.dk
X-WR-CALDESC:Begivenheder for Humanistisk Samfund
REFRESH-INTERVAL;VALUE=DURATION:PT1H
X-Robots-Tag:noindex
X-PUBLISHED-TTL:PT1H
BEGIN:VTIMEZONE
TZID:Europe/Copenhagen
BEGIN:DAYLIGHT
TZOFFSETFROM:+0100
TZOFFSETTO:+0200
TZNAME:CEST
DTSTART:20190331T010000
END:DAYLIGHT
BEGIN:STANDARD
TZOFFSETFROM:+0200
TZOFFSETTO:+0100
TZNAME:CET
DTSTART:20191027T010000
END:STANDARD
BEGIN:DAYLIGHT
TZOFFSETFROM:+0100
TZOFFSETTO:+0200
TZNAME:CEST
DTSTART:20200329T010000
END:DAYLIGHT
BEGIN:STANDARD
TZOFFSETFROM:+0200
TZOFFSETTO:+0100
TZNAME:CET
DTSTART:20201025T010000
END:STANDARD
BEGIN:DAYLIGHT
TZOFFSETFROM:+0100
TZOFFSETTO:+0200
TZNAME:CEST
DTSTART:20210328T010000
END:DAYLIGHT
BEGIN:STANDARD
TZOFFSETFROM:+0200
TZOFFSETTO:+0100
TZNAME:CET
DTSTART:20211031T010000
END:STANDARD
END:VTIMEZONE
BEGIN:VEVENT
DTSTART;TZID=Europe/Copenhagen:20200530T093000
DTEND;TZID=Europe/Copenhagen:20200530T150000
DTSTAMP:20260420T194751
CREATED:20190823T120054Z
LAST-MODIFIED:20190823T120054Z
UID:5759-1590831000-1590850800@www.humanistisksamfund.dk
SUMMARY:Konfirmationsceremoni i Roskilde
DESCRIPTION:Konfirmationsceremoni i Roskilde. To ceremonier på dagen\, henholdsvis kl 9:30-10:45 og kl 13:00-14:15. Spillestedet Gimle i Roskilde. \nKun konfirmandernes inviterede gæster kan deltage.
URL:https://www.humanistisksamfund.dk/event/konfirmationsceremoni-i-roskilde/
END:VEVENT
END:VCALENDAR