BEGIN:VCALENDAR
VERSION:2.0
PRODID:-//Humanistisk Samfund - ECPv6.15.17.1//NONSGML v1.0//EN
CALSCALE:GREGORIAN
METHOD:PUBLISH
X-ORIGINAL-URL:https://www.humanistisksamfund.dk
X-WR-CALDESC:Begivenheder for Humanistisk Samfund
REFRESH-INTERVAL;VALUE=DURATION:PT1H
X-Robots-Tag:noindex
X-PUBLISHED-TTL:PT1H
BEGIN:VTIMEZONE
TZID:Europe/Copenhagen
BEGIN:DAYLIGHT
TZOFFSETFROM:+0100
TZOFFSETTO:+0200
TZNAME:CEST
DTSTART:20200329T010000
END:DAYLIGHT
BEGIN:STANDARD
TZOFFSETFROM:+0200
TZOFFSETTO:+0100
TZNAME:CET
DTSTART:20201025T010000
END:STANDARD
BEGIN:DAYLIGHT
TZOFFSETFROM:+0100
TZOFFSETTO:+0200
TZNAME:CEST
DTSTART:20210328T010000
END:DAYLIGHT
BEGIN:STANDARD
TZOFFSETFROM:+0200
TZOFFSETTO:+0100
TZNAME:CET
DTSTART:20211031T010000
END:STANDARD
BEGIN:DAYLIGHT
TZOFFSETFROM:+0100
TZOFFSETTO:+0200
TZNAME:CEST
DTSTART:20220327T010000
END:DAYLIGHT
BEGIN:STANDARD
TZOFFSETFROM:+0200
TZOFFSETTO:+0100
TZNAME:CET
DTSTART:20221030T010000
END:STANDARD
END:VTIMEZONE
BEGIN:VEVENT
DTSTART;TZID=Europe/Copenhagen:20210303T160000
DTEND;TZID=Europe/Copenhagen:20210303T180000
DTSTAMP:20260420T104836
CREATED:20201207T083041Z
LAST-MODIFIED:20201207T083041Z
UID:7532-1614787200-1614794400@www.humanistisksamfund.dk
SUMMARY:HS Hovedstaden: Debatmøde
DESCRIPTION:Debatgruppen mødes den første onsdag i måneden kl. 16-18 i Salonen (en hyggelig café) på Østerbrogade 222. Få minutters gang fra Svanemøllen St. \nDebatgruppen mødes for at argumentere\, lytte og måske blive lidt klogere på et eller andet etisk dilemma. \nDer snakkes ud fra et fælles startpunkt\, men ordet er frit og stemningen hyggelig. \nKontaktperson: Irene Hauch – irenehauch@comxnet.dk
URL:https://www.humanistisksamfund.dk/event/hs-hovedstaden-debatmoede-3/
LOCATION:Edvard Griegs Gade 21\, st..tv\, Edvard Griegs Gade 21\, st..tv\, København Ø\, 2100\, Danmark
ORGANIZER;CN="HS Hovedstaden":MAILTO:irenehauch@gmail.com
END:VEVENT
BEGIN:VEVENT
DTSTART;TZID=Europe/Copenhagen:20210303T170000
DTEND;TZID=Europe/Copenhagen:20210303T200000
DTSTAMP:20260420T104836
CREATED:20210114T111404Z
LAST-MODIFIED:20210114T111404Z
UID:7567-1614790800-1614801600@www.humanistisksamfund.dk
SUMMARY:Konfirmationsundervisning: Hold X og Hold Y
DESCRIPTION:Aftenundervisning for konfirmationsholdene\, Hold X og Hold Y. \nDet er kun tilmeldte konfirmander\, der kan deltage i undervisningen.
URL:https://www.humanistisksamfund.dk/event/konfirmationsundervisning-hold-x-og-hold-y/
LOCATION:København
END:VEVENT
END:VCALENDAR