BEGIN:VCALENDAR
VERSION:2.0
PRODID:-//Humanistisk Samfund - ECPv6.15.17.1//NONSGML v1.0//EN
CALSCALE:GREGORIAN
METHOD:PUBLISH
X-WR-CALNAME:Humanistisk Samfund
X-ORIGINAL-URL:https://www.humanistisksamfund.dk
X-WR-CALDESC:Begivenheder for Humanistisk Samfund
REFRESH-INTERVAL;VALUE=DURATION:PT1H
X-Robots-Tag:noindex
X-PUBLISHED-TTL:PT1H
BEGIN:VTIMEZONE
TZID:Europe/Copenhagen
BEGIN:DAYLIGHT
TZOFFSETFROM:+0100
TZOFFSETTO:+0200
TZNAME:CEST
DTSTART:20200329T010000
END:DAYLIGHT
BEGIN:STANDARD
TZOFFSETFROM:+0200
TZOFFSETTO:+0100
TZNAME:CET
DTSTART:20201025T010000
END:STANDARD
BEGIN:DAYLIGHT
TZOFFSETFROM:+0100
TZOFFSETTO:+0200
TZNAME:CEST
DTSTART:20210328T010000
END:DAYLIGHT
BEGIN:STANDARD
TZOFFSETFROM:+0200
TZOFFSETTO:+0100
TZNAME:CET
DTSTART:20211031T010000
END:STANDARD
BEGIN:DAYLIGHT
TZOFFSETFROM:+0100
TZOFFSETTO:+0200
TZNAME:CEST
DTSTART:20220327T010000
END:DAYLIGHT
BEGIN:STANDARD
TZOFFSETFROM:+0200
TZOFFSETTO:+0100
TZNAME:CET
DTSTART:20221030T010000
END:STANDARD
END:VTIMEZONE
BEGIN:VEVENT
DTSTART;TZID=Europe/Copenhagen:20210617T160000
DTEND;TZID=Europe/Copenhagen:20210617T180000
DTSTAMP:20260420T102200
CREATED:20210615T082250Z
LAST-MODIFIED:20210615T082453Z
UID:8201-1623945600-1623952800@www.humanistisksamfund.dk
SUMMARY:Folkemøde med Humanistisk Samfund
DESCRIPTION:Årets Folkemøde foregår delvist virtuelt\, og Humanistisk Samfund er selvfølgelig med\, som vært for to samtaler. \nCorona – hvad lærte vi om livet? \nMød Peder Hvelplund\, sundhedsordfører for Enhedslisten og Stinus Lindgren\, sundhedsordfører for Det Radikale Venstre til en samtale om\, hvad vi lærte under pandemien. \nOm lidt er det ikke længere teststrategier\, vaccinationsudrulning og ophævelse af forsamlingsforbud\, der fylder alt i den offentlige debat. Men er der stadig en lære af Covid-19? Ikke blot om hvordan man træffer politiske beslutninger om smittespredning\, men om hvordan vi forstår livet og tilværelsen? Hvad lærte vi om fællesskaber? Om mennesker? Om døden? Om gud? Om naturvidenskaben? Vi har inviteret to af de centrale politikere under pandemien til en samtale med Humanistisk Samfunds forperson Lone Ree Milkær\, hvor de diskuterer\, hvad vi i et større perspektiv lærte af pandemien. \nDet er kl. 17.30 – 18.00 og kan følges som en live-stream på vores Facebookside. \nLivssynet vender tilbage… \nSiden 1960’erne er religion gået fra at være et marginaliseret politisk spørgsmål til at fylde mere og mere. Samtidig er det blevet populært blandt en del politikere at fortælle om deres egne religiøse erfaringer. Vi spørger\, hvad staten skal gøre med religion og ikke-religiøse livssyn? Hvordan skal det offentlige håndtere de mange møder mellem forskellige religioner og livssyn\, der finder sted hver dag\, også i den offentlige sektor? Og skal staten ligestille ikke-religiøse livssyn med de religiøse? \nMød Cristian Juhl\, MF for Enhedslisten\, Mikael Wandt Laursen\, generalsekretær i Frikirkenet\, og Lone Ree Milkær\, Humanistisk Samfunds forperson. \nDet er kl. 16.00 – 16.30 og kan følges som en live-stream på vores Facebookside.
URL:https://www.humanistisksamfund.dk/event/folkemoede-med-humanistisk-samfund/
END:VEVENT
END:VCALENDAR