BEGIN:VCALENDAR
VERSION:2.0
PRODID:-//Humanistisk Samfund - ECPv6.15.17.1//NONSGML v1.0//EN
CALSCALE:GREGORIAN
METHOD:PUBLISH
X-WR-CALNAME:Humanistisk Samfund
X-ORIGINAL-URL:https://www.humanistisksamfund.dk
X-WR-CALDESC:Begivenheder for Humanistisk Samfund
REFRESH-INTERVAL;VALUE=DURATION:PT1H
X-Robots-Tag:noindex
X-PUBLISHED-TTL:PT1H
BEGIN:VTIMEZONE
TZID:Europe/Copenhagen
BEGIN:DAYLIGHT
TZOFFSETFROM:+0100
TZOFFSETTO:+0200
TZNAME:CEST
DTSTART:20230326T010000
END:DAYLIGHT
BEGIN:STANDARD
TZOFFSETFROM:+0200
TZOFFSETTO:+0100
TZNAME:CET
DTSTART:20231029T010000
END:STANDARD
BEGIN:DAYLIGHT
TZOFFSETFROM:+0100
TZOFFSETTO:+0200
TZNAME:CEST
DTSTART:20240331T010000
END:DAYLIGHT
BEGIN:STANDARD
TZOFFSETFROM:+0200
TZOFFSETTO:+0100
TZNAME:CET
DTSTART:20241027T010000
END:STANDARD
BEGIN:DAYLIGHT
TZOFFSETFROM:+0100
TZOFFSETTO:+0200
TZNAME:CEST
DTSTART:20250330T010000
END:DAYLIGHT
BEGIN:STANDARD
TZOFFSETFROM:+0200
TZOFFSETTO:+0100
TZNAME:CET
DTSTART:20251026T010000
END:STANDARD
END:VTIMEZONE
BEGIN:VEVENT
DTSTART;TZID=Europe/Copenhagen:20240605T190000
DTEND;TZID=Europe/Copenhagen:20240605T210000
DTSTAMP:20260420T181801
CREATED:20231211T105056Z
LAST-MODIFIED:20231211T105845Z
UID:12496-1717614000-1717621200@www.humanistisksamfund.dk
SUMMARY:Humanistisk Salon: Grundloven
DESCRIPTION:ROSKILDE \nSalonen har til formål at udforske og diskutere grundloven set gennem et humanistisk perspektiv med refleksioner over Grundlovens grundlæggende værdier såsom menneskerettigheder\, individets værdighed og samfundets ansvar for at skabe et retfærdigt og inkluderende samfund. Gennem dialoger og diskussioner m.m. vil vi dykke ned i grundlovens betydning for et samfund med stærkt humanistisk livssyn (frihed\, lighed\, solidaritet). \n  \nTilmelding via Facebook-begivenhed eller ved at skrive til kontakt@hs.dk.
URL:https://www.humanistisksamfund.dk/event/humanistisk-salon-grundloven/
LOCATION:INSP!\, Slagteristræde 9\, Roskilde\, 4000
END:VEVENT
END:VCALENDAR