BEGIN:VCALENDAR
VERSION:2.0
PRODID:-//Humanistisk Samfund - ECPv6.15.17.1//NONSGML v1.0//EN
CALSCALE:GREGORIAN
METHOD:PUBLISH
X-ORIGINAL-URL:https://www.humanistisksamfund.dk
X-WR-CALDESC:Begivenheder for Humanistisk Samfund
REFRESH-INTERVAL;VALUE=DURATION:PT1H
X-Robots-Tag:noindex
X-PUBLISHED-TTL:PT1H
BEGIN:VTIMEZONE
TZID:Europe/Copenhagen
BEGIN:DAYLIGHT
TZOFFSETFROM:+0100
TZOFFSETTO:+0200
TZNAME:CEST
DTSTART:20230326T010000
END:DAYLIGHT
BEGIN:STANDARD
TZOFFSETFROM:+0200
TZOFFSETTO:+0100
TZNAME:CET
DTSTART:20231029T010000
END:STANDARD
BEGIN:DAYLIGHT
TZOFFSETFROM:+0100
TZOFFSETTO:+0200
TZNAME:CEST
DTSTART:20240331T010000
END:DAYLIGHT
BEGIN:STANDARD
TZOFFSETFROM:+0200
TZOFFSETTO:+0100
TZNAME:CET
DTSTART:20241027T010000
END:STANDARD
BEGIN:DAYLIGHT
TZOFFSETFROM:+0100
TZOFFSETTO:+0200
TZNAME:CEST
DTSTART:20250330T010000
END:DAYLIGHT
BEGIN:STANDARD
TZOFFSETFROM:+0200
TZOFFSETTO:+0100
TZNAME:CET
DTSTART:20251026T010000
END:STANDARD
END:VTIMEZONE
BEGIN:VEVENT
DTSTART;TZID=Europe/Copenhagen:20240606T190000
DTEND;TZID=Europe/Copenhagen:20240606T210000
DTSTAMP:20260420T194941
CREATED:20231211T105320Z
LAST-MODIFIED:20240108T104346Z
UID:12499-1717700400-1717707600@www.humanistisksamfund.dk
SUMMARY:Humanistisk Salon: Er danske provinser undertrykte?
DESCRIPTION:KØBENHAVN \nEr danske provinser undertrykte? Er hele Danmark en global provins? Denne humanistiske salon vil være med oplæg\, dialog og et dansk/indisk musikalsk\, kulturelt fordybelsesmøde. \nTilmelding via Facebook-begivenhed eller ved at skrive til kontakt@hs.dk.
URL:https://www.humanistisksamfund.dk/event/humanistisk-salon-er-danske-provinser-undertrykte/
LOCATION:Café Katz Frederiksberg\, Rosenørns Allé 32\, Frederiksberg\, 1970
END:VEVENT
END:VCALENDAR