BEGIN:VCALENDAR
VERSION:2.0
PRODID:-//Humanistisk Samfund - ECPv6.15.17.1//NONSGML v1.0//EN
CALSCALE:GREGORIAN
METHOD:PUBLISH
X-WR-CALNAME:Humanistisk Samfund
X-ORIGINAL-URL:https://www.humanistisksamfund.dk
X-WR-CALDESC:Begivenheder for Humanistisk Samfund
REFRESH-INTERVAL;VALUE=DURATION:PT1H
X-Robots-Tag:noindex
X-PUBLISHED-TTL:PT1H
BEGIN:VTIMEZONE
TZID:Europe/Copenhagen
BEGIN:DAYLIGHT
TZOFFSETFROM:+0100
TZOFFSETTO:+0200
TZNAME:CEST
DTSTART:20190331T010000
END:DAYLIGHT
BEGIN:STANDARD
TZOFFSETFROM:+0200
TZOFFSETTO:+0100
TZNAME:CET
DTSTART:20191027T010000
END:STANDARD
BEGIN:DAYLIGHT
TZOFFSETFROM:+0100
TZOFFSETTO:+0200
TZNAME:CEST
DTSTART:20200329T010000
END:DAYLIGHT
BEGIN:STANDARD
TZOFFSETFROM:+0200
TZOFFSETTO:+0100
TZNAME:CET
DTSTART:20201025T010000
END:STANDARD
BEGIN:DAYLIGHT
TZOFFSETFROM:+0100
TZOFFSETTO:+0200
TZNAME:CEST
DTSTART:20210328T010000
END:DAYLIGHT
BEGIN:STANDARD
TZOFFSETFROM:+0200
TZOFFSETTO:+0100
TZNAME:CET
DTSTART:20211031T010000
END:STANDARD
END:VTIMEZONE
BEGIN:VEVENT
DTSTART;TZID=Europe/Copenhagen:20200616T180000
DTEND;TZID=Europe/Copenhagen:20200616T200000
DTSTAMP:20260420T153242
CREATED:20200529T083434Z
LAST-MODIFIED:20200608T070609Z
UID:6655-1592330400-1592337600@www.humanistisksamfund.dk
SUMMARY:Generalforsamling i HS Hovedstaden
DESCRIPTION:Indkaldelse til ordinær generalforsamling 2020  \nBestyrelsen i Humanistisk Samfund – Hovedstaden har fornøjelsen at indkalde medlemmerne til ordinær generalforsamling. \n  \nDato og klokkeslet: Tirsdag d. 16.06.2020 kl. 18.00. Vi byder på lidt snacks og drikkevarer. \nSted: Hos Lone Haudrum\, Højmosevej 11\, 2400 København NV \n  \nDagsorden: \n\nValg af dirigent og referent\nBestyrelsens beretning\nForelæggelse af lokalforeningens økonomiske situation\nIndkomne forslag\nValg af bestyrelse\n\nPå valg er: 1 forperson (Julie Thorup genopstiller); 1 næstforperson (Alice Gielfeldt genopstiller); 1 kasserer (Lone Haudrum genopstiller); op til 4 bestyrelsesmedlemmer (Maria Everts Riveros genopstiller ikke); 2 suppleanter \nDa vi i bestyrelsen har brug for ekstra kræfter til at gennemføre en nytænkning af foreningens arbejde\, opfordrer vi interesserede til at melde sig til bestyrelsesarbejdet. \n\nEventuelt\n\n  \nForslag\, der ønskes behandlet på generalforsamlingen\, skal være forpersonen i hænde senest d. 25. maj. Forslag kan sendes pr mail til Julie Thorup på: thorup.julie@gmail.com. \nHvis du ved\, du vil deltage\, så giv gerne besked til Lone Haudrum på lha@hs.dk\, så vi kan være sikre på at overholde de på det tidspunkt gældende corona-regler. \n  \nVel mødt! \nMed venlig hilsen \nBestyrelsen
URL:https://www.humanistisksamfund.dk/event/generalforsamling-i-hs-hovedstaden/
LOCATION:Højmosevej 11\, 2400 KBH NV\, Højmosevej 11\, København NV\, Danmark
ORGANIZER;CN="HS Hovedstaden":MAILTO:irenehauch@gmail.com
END:VEVENT
END:VCALENDAR