BEGIN:VCALENDAR
VERSION:2.0
PRODID:-//Humanistisk Samfund - ECPv6.15.17.1//NONSGML v1.0//EN
CALSCALE:GREGORIAN
METHOD:PUBLISH
X-WR-CALNAME:Humanistisk Samfund
X-ORIGINAL-URL:https://www.humanistisksamfund.dk
X-WR-CALDESC:Begivenheder for Humanistisk Samfund
REFRESH-INTERVAL;VALUE=DURATION:PT1H
X-Robots-Tag:noindex
X-PUBLISHED-TTL:PT1H
BEGIN:VTIMEZONE
TZID:Europe/Copenhagen
BEGIN:DAYLIGHT
TZOFFSETFROM:+0100
TZOFFSETTO:+0200
TZNAME:CEST
DTSTART:20190331T010000
END:DAYLIGHT
BEGIN:STANDARD
TZOFFSETFROM:+0200
TZOFFSETTO:+0100
TZNAME:CET
DTSTART:20191027T010000
END:STANDARD
BEGIN:DAYLIGHT
TZOFFSETFROM:+0100
TZOFFSETTO:+0200
TZNAME:CEST
DTSTART:20200329T010000
END:DAYLIGHT
BEGIN:STANDARD
TZOFFSETFROM:+0200
TZOFFSETTO:+0100
TZNAME:CET
DTSTART:20201025T010000
END:STANDARD
BEGIN:DAYLIGHT
TZOFFSETFROM:+0100
TZOFFSETTO:+0200
TZNAME:CEST
DTSTART:20210328T010000
END:DAYLIGHT
BEGIN:STANDARD
TZOFFSETFROM:+0200
TZOFFSETTO:+0100
TZNAME:CET
DTSTART:20211031T010000
END:STANDARD
END:VTIMEZONE
BEGIN:VEVENT
DTSTART;TZID=Europe/Copenhagen:20201007T160000
DTEND;TZID=Europe/Copenhagen:20201007T180000
DTSTAMP:20260420T104035
CREATED:20200625T085849Z
LAST-MODIFIED:20200625T085849Z
UID:6753-1602086400-1602093600@www.humanistisksamfund.dk
SUMMARY:HS KBH: Debatmøde
DESCRIPTION:Debatgruppen mødes første onsdag i måneden kl. 16-18 på caféen Salonen for at argumentere\, lytte og måske blive lidt klogere på et eller andet etisk dilemma. \nDer snakkes ud fra et fælles startpunkt\, men ordet er frit og stemningen hyggelig. \nKontaktperson: irenehauch@comxnet.dk
URL:https://www.humanistisksamfund.dk/event/hs-kbh-debatmoede-2/
LOCATION:Edvard Griegs Gade 21\, st..tv\, Edvard Griegs Gade 21\, st..tv\, København Ø\, 2100\, Danmark
CATEGORIES:Hovedstaden
ORGANIZER;CN="HS Hovedstaden":MAILTO:irenehauch@gmail.com
END:VEVENT
BEGIN:VEVENT
DTSTART;TZID=Europe/Copenhagen:20201022T200000
DTEND;TZID=Europe/Copenhagen:20201022T220000
DTSTAMP:20260420T104035
CREATED:20201008T133127Z
LAST-MODIFIED:20201008T133127Z
UID:7126-1603396800-1603404000@www.humanistisksamfund.dk
SUMMARY:Digitalt medlemsmøde om arbejdsprogram 2021-2025
DESCRIPTION:Tilmelding til digitalt medlemsmøde om arbejdsprogram foregår via dette link: https://1677.foreninglet.dk/memberportal/teamenrollment/index/51463\n\n\n\nTil Digitalt medlemsmøde om arbejdsprogram 2021 – 2025 skal rammerne for Humanistisk Samfunds arbejde de næste fem år diskuteres og det er en måde\, hvor du som medlem kan være med til at påvirke det fremtidige arbejdsprogram. Med udgangspunkt i arbejdsprogrammet 2016 – 2020 skal det besluttes\, hvilket allerede igangsat arbejde vi skal forsætte med\, og hvilke nye projekter som skal sættes på dagsordenen for de næste år. \n  \nDet digitale medlemsmøde om arbejdsprogram er tiltænkt alle medlemmer\, og foregår foregår online. Tilmeldte deltagere får videre information om\, hvor og hvordan man logger sig på mødet. \n\n  \n\nLæs gerne Kirstine Kærns seneste artikel i medlemsbladet “Hvor skal Humanistisk Samfund hen i fremtiden?” for inspiration og indblik i de sidste års arbejde. Uddybelse af HS’ resultater de seneste år findes også her på hjemmesiden: https://www.humanistisksamfund.dk/2020/10/05/status-paa-arbejdsprogram-2016-2020/ \n  \nSpørgsmål stiles til Troels på tbs@hs.dk eller via telefon: 81 11 31 63. \n\n\n  \n 
URL:https://www.humanistisksamfund.dk/event/digitalt-medlemsmoede-om-arbejdsprogram-2021-2025/
LOCATION:Online
END:VEVENT
BEGIN:VEVENT
DTSTART;TZID=Europe/Copenhagen:20201027T190000
DTEND;TZID=Europe/Copenhagen:20201027T210000
DTSTAMP:20260420T104035
CREATED:20200929T115220Z
LAST-MODIFIED:20201026T123515Z
UID:6996-1603825200-1603832400@www.humanistisksamfund.dk
SUMMARY:AFLYST - HS KBH: Kafé Mensch
DESCRIPTION:AFLYST \nDesværre må vi aflyse Kafé Mensch arrangementet d. 27. oktober pga. det nye forsamlingsforbud. \n\n\nVi håber\, det kan lade sig gøre på et senere tidspunkt
URL:https://www.humanistisksamfund.dk/event/hs-kbh-kafe-mensch/
LOCATION:Edvard Griegs Gade 21\, st..tv\, Edvard Griegs Gade 21\, st..tv\, København Ø\, 2100\, Danmark
ORGANIZER;CN="HS Hovedstaden":MAILTO:irenehauch@gmail.com
END:VEVENT
END:VCALENDAR