BEGIN:VCALENDAR
VERSION:2.0
PRODID:-//Humanistisk Samfund - ECPv6.15.17.1//NONSGML v1.0//EN
CALSCALE:GREGORIAN
METHOD:PUBLISH
X-WR-CALNAME:Humanistisk Samfund
X-ORIGINAL-URL:https://www.humanistisksamfund.dk
X-WR-CALDESC:Begivenheder for Humanistisk Samfund
REFRESH-INTERVAL;VALUE=DURATION:PT1H
X-Robots-Tag:noindex
X-PUBLISHED-TTL:PT1H
BEGIN:VTIMEZONE
TZID:Europe/Copenhagen
BEGIN:DAYLIGHT
TZOFFSETFROM:+0100
TZOFFSETTO:+0200
TZNAME:CEST
DTSTART:20200329T010000
END:DAYLIGHT
BEGIN:STANDARD
TZOFFSETFROM:+0200
TZOFFSETTO:+0100
TZNAME:CET
DTSTART:20201025T010000
END:STANDARD
BEGIN:DAYLIGHT
TZOFFSETFROM:+0100
TZOFFSETTO:+0200
TZNAME:CEST
DTSTART:20210328T010000
END:DAYLIGHT
BEGIN:STANDARD
TZOFFSETFROM:+0200
TZOFFSETTO:+0100
TZNAME:CET
DTSTART:20211031T010000
END:STANDARD
BEGIN:DAYLIGHT
TZOFFSETFROM:+0100
TZOFFSETTO:+0200
TZNAME:CEST
DTSTART:20220327T010000
END:DAYLIGHT
BEGIN:STANDARD
TZOFFSETFROM:+0200
TZOFFSETTO:+0100
TZNAME:CET
DTSTART:20221030T010000
END:STANDARD
END:VTIMEZONE
BEGIN:VEVENT
DTSTART;TZID=Europe/Copenhagen:20210901T160000
DTEND;TZID=Europe/Copenhagen:20210901T180000
DTSTAMP:20260420T140802
CREATED:20210510T075045Z
LAST-MODIFIED:20210510T075045Z
UID:8059-1630512000-1630519200@www.humanistisksamfund.dk
SUMMARY:HS Hovedstaden: Debatmøde
DESCRIPTION:Debatgruppen mødes den første onsdag i måneden kl. 16-18 i Salonen (en hyggelig café) på Østerbrogade 222. Få minutters gang fra Svanemøllen St. \nDebatgruppen mødes for at argumentere\, lytte og måske blive lidt klogere på et eller andet etisk dilemma. \nDer snakkes ud fra et fælles startpunkt\, men ordet er frit og stemningen hyggelig. \nKontaktperson: Irene Hauch – irenehauch@comxnet.dk
URL:https://www.humanistisksamfund.dk/event/hs-hovedstaden-debatmoede-6/
LOCATION:Edvard Griegs Gade 21\, st..tv\, Edvard Griegs Gade 21\, st..tv\, København Ø\, 2100\, Danmark
ORGANIZER;CN="HS Hovedstaden":MAILTO:irenehauch@gmail.com
END:VEVENT
BEGIN:VEVENT
DTSTART;TZID=Europe/Copenhagen:20210902T190000
DTEND;TZID=Europe/Copenhagen:20210902T200000
DTSTAMP:20260420T140802
CREATED:20201110T131625Z
LAST-MODIFIED:20210621T085158Z
UID:7380-1630609200-1630612800@www.humanistisksamfund.dk
SUMMARY:Velkomstmøde for nye medlemmer - Online
DESCRIPTION:Hvert kvartal holder vi fra sekretariatet et velkomstmøde for nye medlemmer\, så alle får en god start i foreningen og kommer i gang med at blive en del af de forskellige fællesskaber i Humanistisk Samfund. \n  \nMødet er online og foregår over zoom. Det tager ca. en time\, hvor der vil være plads til at møde hinanden og stille masser af spørgsmål. \n  \nTilmelding til velkomstmødet i september 2021 er her: https://1677.foreninglet.dk/memberportal/teamenrollment/index/55667 \nTilmeldingsfrist: 1. september 2021. \n  \nHvis du har nogle spørgsmål er du velkommen til at skrive til sekretariatsmedarbejder Camilla Hyld på: ch@hs.dk. \n  \nVi glæder os til at møde de nye ansigter i Humanistisk Samfund!
URL:https://www.humanistisksamfund.dk/event/velkomstmoede-for-nye-medlemmer-online-4/
END:VEVENT
BEGIN:VEVENT
DTSTART;TZID=Europe/Copenhagen:20210929T173000
DTEND;TZID=Europe/Copenhagen:20210929T203000
DTSTAMP:20260420T140802
CREATED:20210810T094859Z
LAST-MODIFIED:20210810T101611Z
UID:8414-1632936600-1632947400@www.humanistisksamfund.dk
SUMMARY:Intern uddannelse – Grundmodul: Introduktion til HS og ceremoniarbejdet
DESCRIPTION:Dette grundmodul vil finde sted i Brønshøj\, København. \nDu tilmelder dig grundmodulet via dette link: https://1677.foreninglet.dk/memberportal/subscribe/index/71328 \n  \nVær opmærksom på\, at vores interne uddannelse kun tilbydes medlemmer af Humanistisk Samfund. Hvis du endnu ikke er medlem af foreningen\, kan du se mulighederne for indmeldelse her.
URL:https://www.humanistisksamfund.dk/event/intern-uddannelse-grundmodul-om-humanisme-2/
END:VEVENT
END:VCALENDAR