BEGIN:VCALENDAR
VERSION:2.0
PRODID:-//Humanistisk Samfund - ECPv6.15.17.1//NONSGML v1.0//EN
CALSCALE:GREGORIAN
METHOD:PUBLISH
X-WR-CALNAME:Humanistisk Samfund
X-ORIGINAL-URL:https://www.humanistisksamfund.dk
X-WR-CALDESC:Begivenheder for Humanistisk Samfund
REFRESH-INTERVAL;VALUE=DURATION:PT1H
X-Robots-Tag:noindex
X-PUBLISHED-TTL:PT1H
BEGIN:VTIMEZONE
TZID:Europe/Copenhagen
BEGIN:DAYLIGHT
TZOFFSETFROM:+0100
TZOFFSETTO:+0200
TZNAME:CEST
DTSTART:20200329T010000
END:DAYLIGHT
BEGIN:STANDARD
TZOFFSETFROM:+0200
TZOFFSETTO:+0100
TZNAME:CET
DTSTART:20201025T010000
END:STANDARD
BEGIN:DAYLIGHT
TZOFFSETFROM:+0100
TZOFFSETTO:+0200
TZNAME:CEST
DTSTART:20210328T010000
END:DAYLIGHT
BEGIN:STANDARD
TZOFFSETFROM:+0200
TZOFFSETTO:+0100
TZNAME:CET
DTSTART:20211031T010000
END:STANDARD
BEGIN:DAYLIGHT
TZOFFSETFROM:+0100
TZOFFSETTO:+0200
TZNAME:CEST
DTSTART:20220327T010000
END:DAYLIGHT
BEGIN:STANDARD
TZOFFSETFROM:+0200
TZOFFSETTO:+0100
TZNAME:CET
DTSTART:20221030T010000
END:STANDARD
END:VTIMEZONE
BEGIN:VEVENT
DTSTART;TZID=Europe/Copenhagen:20211103T160000
DTEND;TZID=Europe/Copenhagen:20211103T180000
DTSTAMP:20260420T165951
CREATED:20210511T072952Z
LAST-MODIFIED:20210511T073000Z
UID:8067-1635955200-1635962400@www.humanistisksamfund.dk
SUMMARY:HS Hovedstaden: Debatmøde
DESCRIPTION:Debatgruppen mødes den første onsdag i måneden kl. 16-18 i Salonen (en hyggelig café) på Østerbrogade 222. Få minutters gang fra Svanemøllen St. \nDebatgruppen mødes for at argumentere\, lytte og måske blive lidt klogere på et eller andet etisk dilemma. \nDer snakkes ud fra et fælles startpunkt\, men ordet er frit og stemningen hyggelig. \nKontaktperson: Irene Hauch – irenehauch@comxnet.dk
URL:https://www.humanistisksamfund.dk/event/hs-hovedstaden-debatmoede-8/
LOCATION:Edvard Griegs Gade 21\, st..tv\, Edvard Griegs Gade 21\, st..tv\, København Ø\, 2100\, Danmark
ORGANIZER;CN="HS Hovedstaden":MAILTO:irenehauch@gmail.com
END:VEVENT
BEGIN:VEVENT
DTSTART;TZID=Europe/Copenhagen:20211114T100000
DTEND;TZID=Europe/Copenhagen:20211114T160000
DTSTAMP:20260420T165951
CREATED:20210818T134648Z
LAST-MODIFIED:20211103T082019Z
UID:8481-1636884000-1636905600@www.humanistisksamfund.dk
SUMMARY:Intern uddannelse - Ceremonimodul: Ritualer og Performance
DESCRIPTION:Ceremonimodulet om ritualer og performance finder sted på Østerbro\, København fra klokken 10.00-16.00. \nDu tilmelder dig modulet via dette link: https://1677.foreninglet.dk/memberportal/subscribe/index/71817 \nVær opmærksom på\, at vores interne uddannelse kun tilbydes medlemmer af Humanistisk Samfund. Hvis du endnu ikke er medlem af foreningen\, kan du se mulighederne for indmeldelse her.
URL:https://www.humanistisksamfund.dk/event/intern-uddannelse-ceremonimodul-ritualer-og-performance/
END:VEVENT
END:VCALENDAR