BEGIN:VCALENDAR
VERSION:2.0
PRODID:-//Humanistisk Samfund - ECPv6.15.17.1//NONSGML v1.0//EN
CALSCALE:GREGORIAN
METHOD:PUBLISH
X-ORIGINAL-URL:https://www.humanistisksamfund.dk
X-WR-CALDESC:Begivenheder for Humanistisk Samfund
REFRESH-INTERVAL;VALUE=DURATION:PT1H
X-Robots-Tag:noindex
X-PUBLISHED-TTL:PT1H
BEGIN:VTIMEZONE
TZID:Europe/Copenhagen
BEGIN:DAYLIGHT
TZOFFSETFROM:+0100
TZOFFSETTO:+0200
TZNAME:CEST
DTSTART:20230326T010000
END:DAYLIGHT
BEGIN:STANDARD
TZOFFSETFROM:+0200
TZOFFSETTO:+0100
TZNAME:CET
DTSTART:20231029T010000
END:STANDARD
BEGIN:DAYLIGHT
TZOFFSETFROM:+0100
TZOFFSETTO:+0200
TZNAME:CEST
DTSTART:20240331T010000
END:DAYLIGHT
BEGIN:STANDARD
TZOFFSETFROM:+0200
TZOFFSETTO:+0100
TZNAME:CET
DTSTART:20241027T010000
END:STANDARD
BEGIN:DAYLIGHT
TZOFFSETFROM:+0100
TZOFFSETTO:+0200
TZNAME:CEST
DTSTART:20250330T010000
END:DAYLIGHT
BEGIN:STANDARD
TZOFFSETFROM:+0200
TZOFFSETTO:+0100
TZNAME:CET
DTSTART:20251026T010000
END:STANDARD
END:VTIMEZONE
BEGIN:VEVENT
DTSTART;TZID=Europe/Copenhagen:20240305T160000
DTEND;TZID=Europe/Copenhagen:20240305T180000
DTSTAMP:20260420T153842
CREATED:20230822T111532Z
LAST-MODIFIED:20230822T111555Z
UID:12228-1709654400-1709661600@www.humanistisksamfund.dk
SUMMARY:Møde i debatgruppen på Østerbro – marts
DESCRIPTION:Debatgruppen mødes i denne sæson den første tirsdag i måneden kl. 16-18 i Café Salonen (en hyggelig café) på Østerbrogade 222. Få minutters gang fra Svanemøllen St. \nAlle er meget velkomne til at dukke op. Vi sidder som regel i kælderen\, hvor der er bedst akustik. \nVi er som oftest 5-8 deltagere – ikke nødvendigvis de samme – som debatterer et eller flere etiske dilemmaer\, som vi er stødt på siden sidst. Trods vores fælles udgangspunkt som medlemmer af Humanistisk Samfund er vi sjældent enige\, men det er jo netop det givende. Tænk gerne på et emne du vil debattere med forsamlingen. \nDet foregår ganske uformelt uden ordstyrer eller konklusioner. \nKom og vær med!
URL:https://www.humanistisksamfund.dk/event/moede-i-debatgruppe-n-paa-oesterbro-marts/
CATEGORIES:Hovedstaden
END:VEVENT
BEGIN:VEVENT
DTSTART;TZID=Europe/Copenhagen:20240320T190000
DTEND;TZID=Europe/Copenhagen:20240320T210000
DTSTAMP:20260420T153842
CREATED:20231211T095616Z
LAST-MODIFIED:20240126T105610Z
UID:12493-1710961200-1710968400@www.humanistisksamfund.dk
SUMMARY:Humanistisk Salon: Miniudgave af humanistisk konfirmation
DESCRIPTION:KØBENHAVN\, Cafe Katz\, Rosenørns Allé 32\, Frederiksberg\, Denmark \nEr du nysgerrig på\, hvad humanistiske konfirmander oplever på deres konfirmationsforløb? Så er denne miniudgave af en undervisningsgang måske noget for dig. Her kan du prøve kræfter med nogle eksempler på øvelser og emner\, som de humanistiske konfirmander tager del i på deres konfirmationsforløb.
URL:https://www.humanistisksamfund.dk/event/humanistisk-salon-miniudgave-af-humanistisk-konfirmation/
LOCATION:Café Katz Frederiksberg\, Rosenørns Allé 32\, Frederiksberg\, 1970
END:VEVENT
END:VCALENDAR